BEGIN:VCALENDAR
VERSION:2.0
PRODID:-//The HPC-AI Society - ECPv6.15.20//NONSGML v1.0//EN
CALSCALE:GREGORIAN
METHOD:PUBLISH
X-WR-CALNAME:The HPC-AI Society
X-ORIGINAL-URL:https://hpc-ai-society.org
X-WR-CALDESC:Events for The HPC-AI Society
REFRESH-INTERVAL;VALUE=DURATION:PT1H
X-Robots-Tag:noindex
X-PUBLISHED-TTL:PT1H
BEGIN:VTIMEZONE
TZID:America/Chicago
BEGIN:DAYLIGHT
TZOFFSETFROM:-0600
TZOFFSETTO:-0500
TZNAME:CDT
DTSTART:20220313T080000
END:DAYLIGHT
BEGIN:STANDARD
TZOFFSETFROM:-0500
TZOFFSETTO:-0600
TZNAME:CST
DTSTART:20221106T070000
END:STANDARD
BEGIN:DAYLIGHT
TZOFFSETFROM:-0600
TZOFFSETTO:-0500
TZNAME:CDT
DTSTART:20230312T080000
END:DAYLIGHT
BEGIN:STANDARD
TZOFFSETFROM:-0500
TZOFFSETTO:-0600
TZNAME:CST
DTSTART:20231105T070000
END:STANDARD
BEGIN:DAYLIGHT
TZOFFSETFROM:-0600
TZOFFSETTO:-0500
TZNAME:CDT
DTSTART:20240310T080000
END:DAYLIGHT
BEGIN:STANDARD
TZOFFSETFROM:-0500
TZOFFSETTO:-0600
TZNAME:CST
DTSTART:20241103T070000
END:STANDARD
END:VTIMEZONE
BEGIN:VEVENT
DTSTART;TZID=America/Chicago:20231026T120000
DTEND;TZID=America/Chicago:20231026T130000
DTSTAMP:20260422T044057
CREATED:20250424T214704Z
LAST-MODIFIED:20250425T190001Z
UID:10000018-1698321600-1698325200@hpc-ai-society.org
SUMMARY:SHPCP October 2023 Lunch & Learn
DESCRIPTION:« All Events \nThis event has passed. \nSHPCP October 2023 Lunch & Learn\nOctober 26\n@\n12:00 pm\n–\n1:00 pm\nCDT \nCost:\nFree – $20.00\n\nHCC West Loop Campus \n5601 W Loop S.\, Room C142 \nHouston\,\n77081\nUnited States \n+ Google Map \n  \n\n\n\n\nAdd to calendar \n \n\nGoogle Calendar\niCalendar\nOutlook 365\nOutlook Live\n\nThe Society of HPC Professionals Lunch and Learn Event\nTackling Healthcare’s Paradoxes: Using a ML-Enabled EMR Provider Workflow to Improve Patient Care & Streamline Non-Clinical Tasks\nDr. Omar Mohtar\, MD Ph.D.\, Founder ParaDoc Health\n\nNetworking: 11:30am – Noon CDT\nPresentation: Noon – 1:00pm CDT\n\nDownload presentations and/or watch videos\n \nDownload the Presentation\n\n \nWatch the Video\n \nYou must be a member to view event materials. Consider joining us!\nAbout the Event\nDr. Omar Mohtar created ParaDocs Health to diagnose healthcare system inefficiencies and treat with RPA solutions to maximize patient outcomes and minimize costs. He aims to simplify the value-based care experience for providers by automating non-clinical task documentation\, freeing them up to 10 hours of administrative work per week. Empowering healthcare professionals with confident clinical decision making\, by streamlining clinical notes for transparent feedback through an intuitive\, provider-tailored interface. \nDr. Mohtar’s journey started in Boston where over 50% of providers’ time is spent on administrative tasks\, impacting patient outcomes and worsening burnout. ParaDocs Health is on a mission to give Providers back their passion through a platform designed to alleviate the administrative burden from assessment\, to treatment\, to reimbursement. Today\, he is looking for healthcare professionals to embark on the care experience revolution and reawaken the dream. \nAbout the Speaker\nDr. Omar Mohtar\, MD Ph.D.\, Founder ParaDoc Health\nDr. Omar Mohtar\, the driving force behind ParaDocs Health\, graduated from Boston University School of Medicine as a distinguished physician-scientist. His groundbreaking dissertation on leptin’s long-term effects on weight gain earned the prestigious editorial award from Cell Signaling. However\, it was the frustrating inefficiencies he observed in clinical settings\, where healthcare providers often grappled with cumbersome documentation over direct patient care\, that ignited his entrepreneurial flame. This spurred his enrollment in the Texas Medical Center Innovation’s Biodesign program. There\, he immersed himself in comprehensive stakeholder surveys\, gaining a nuanced understanding of the healthcare landscape and the transformative potential of technology therein. \nBut Dr. Mohtar’s pursuits aren’t limited to innovation alone; he’s a beacon of education. Highlighted at the Weill Cornell Primary Care Innovation Symposium\, his work on clinical workflow automation is pioneering a new age in healthcare. Beyond that\, he’s architected summer programs introducing medical students to the critical role of AI in medicine. Through seminars and mentoring\, Omar consistently exemplifies his unwavering commitment to elevating healthcare and mentoring its future leaders. \n \nMembers: remember to login to see your free ticket option. Note: if you see a message to renew\, we have seen a glitch on some browsers. Click the renew link\, which will take you to your account page\, where you will see if you are current. If you are\, simply navigate again to the event page and you should see your free ticket option.\n\n\n\nSHPCP September 2023 Lunch & Learn \n\nSHPCP January 2024 Lunch & Learn
URL:https://hpc-ai-society.org/event/shpcp-october-2023-lunch-learn/
LOCATION:HCC West Loop Campus\, 5601 W Loop S.\, Room C142\, Houston\, 77081\, United States
CATEGORIES:Lunch & Learn,SHPCP
END:VEVENT
BEGIN:VEVENT
DTSTART;TZID=America/Chicago:20230928T113000
DTEND;TZID=America/Chicago:20230928T130000
DTSTAMP:20260422T044057
CREATED:20250424T224031Z
LAST-MODIFIED:20250425T190020Z
UID:10000019-1695900600-1695906000@hpc-ai-society.org
SUMMARY:SHPCP September 2023 Lunch & Learn
DESCRIPTION:
URL:https://hpc-ai-society.org/event/shpcp-september-2023-lunch-learn/
LOCATION:HCC West Loop Campus\, 5601 W Loop S.\, Room C142\, Houston\, 77081\, United States
CATEGORIES:Lunch & Learn,SHPCP
END:VEVENT
END:VCALENDAR