BEGIN:VCALENDAR
VERSION:2.0
PRODID:-//The HPC-AI Society - ECPv6.15.20//NONSGML v1.0//EN
CALSCALE:GREGORIAN
METHOD:PUBLISH
X-WR-CALNAME:The HPC-AI Society
X-ORIGINAL-URL:https://hpc-ai-society.org
X-WR-CALDESC:Events for The HPC-AI Society
REFRESH-INTERVAL;VALUE=DURATION:PT1H
X-Robots-Tag:noindex
X-PUBLISHED-TTL:PT1H
BEGIN:VTIMEZONE
TZID:America/Chicago
BEGIN:DAYLIGHT
TZOFFSETFROM:-0600
TZOFFSETTO:-0500
TZNAME:CDT
DTSTART:20230312T080000
END:DAYLIGHT
BEGIN:STANDARD
TZOFFSETFROM:-0500
TZOFFSETTO:-0600
TZNAME:CST
DTSTART:20231105T070000
END:STANDARD
BEGIN:DAYLIGHT
TZOFFSETFROM:-0600
TZOFFSETTO:-0500
TZNAME:CDT
DTSTART:20240310T080000
END:DAYLIGHT
BEGIN:STANDARD
TZOFFSETFROM:-0500
TZOFFSETTO:-0600
TZNAME:CST
DTSTART:20241103T070000
END:STANDARD
BEGIN:DAYLIGHT
TZOFFSETFROM:-0600
TZOFFSETTO:-0500
TZNAME:CDT
DTSTART:20250309T080000
END:DAYLIGHT
BEGIN:STANDARD
TZOFFSETFROM:-0500
TZOFFSETTO:-0600
TZNAME:CST
DTSTART:20251102T070000
END:STANDARD
END:VTIMEZONE
BEGIN:VEVENT
DTSTART;TZID=America/Chicago:20240125T113000
DTEND;TZID=America/Chicago:20240125T130000
DTSTAMP:20260422T045743
CREATED:20250424T211554Z
LAST-MODIFIED:20250430T184351Z
UID:3949-1706182200-1706187600@hpc-ai-society.org
SUMMARY:SHPCP January 2024 Lunch & Learn
DESCRIPTION:« All Events\n 				\n				\n				\n				\n					This event has passed. \n				\n				\n				\n				\n					\n	SHPCP January 2024 Lunch & Learn				\n				\n				\n				\n					\n		\n			January 25\n\n	\n\n	 @ \n\n\n11:30 am\n\n		\n\n\n\n	\n	 - \n\n1:00 pm\n\n\nCST\n	\n				\n				\n		\n					\n		\n				\n				\n					\n	Cost:\nFree – $15.00				\n				\n				\n				\n					\n				\n				\n	\n			\n		HCC West Loop Campus			\n	\n	\n	\n\n5601 W Loop S.\, Room C142\n	\n		\n		Houston\,\n\n\n	77081\n\n	United States\n\n\n\n\n	+ Google Map \n\n\n	\n					\n						\n	 \n\n\n	\n	 \n\n\n\n	\n\n\n\n		\n	\n				\n				\n				\n				\n					\n	\n		\n\n	\n	Add to calendar	\n		\n	\n\n		\n			\n									\n	Google Calendar\n\n									\n	iCalendar\n\n									\n	Outlook 365\n\n									\n	Outlook Live\n\n							\n		\n\n		\n	\n\n				\n				\n				\n					\n				\n		\n				\n				\n							\n			\n						\n		\n						\n				\n				\n				\n					Lunch & Learn – January 2024				\n				\n				\n				\n					Performant Data Analytics Through Purpose-Built Computer Architecture				\n				\n				\n				\n					Martin Deneroff\, CEO\, Lucata Corporation				\n				\n				\n				\n									Networking: 11:30am – Noon CDTPresentation: Noon – 1:00pm CDT								\n				\n				\n		\n				\n				\n					Download presentations and/or watch videos				\n				\n				\n				\n					You must be a member to view event materials.  Consider joining us!				\n				\n				\n		\n				\n				\n					About the Event				\n				\n				\n				\n									Lucata Corporation was created on the premise that a computer architecture specifically targeted at irregular access to large\, sparse data sets can dramatically outperform conventional architectures in both absolute performance and cost-effectiveness. The Lucata Pathfinder is the first such architecture to become available for commercial and research applications. While the Pathfinder architecture was first conceived for use in applications such as counter-terrorism\, it has become clear that its specialized characteristics provide massive advantages in a diverse range of application areas\, including Fraud Detection\, Genomics\, Real-Time Optimization\, and Retrieval-Augmented Generation in concert with LLMs. 								\n				\n				\n		\n					\n		\n				\n				\n					About the Speaker				\n				\n				\n				\n					Martin Deneroff\, CEO\, Lucata Corporation				\n				\n				\n				\n									Martin Deneroff\, the driving force behind Lucata Corporation and the Pathfinder Architecture\, graduated from the Massachusetts Institute of Technology in Electrical Engineering and Computer Science\, and received a Master of Computer Science from Monmouth University. His career has spanned numerous areas in parallel processing and computer architecture\, including developing the architectures for SGI’s Challenge and Origen servers\, DE Shaw Research’s Anton Molecular Dynamics Supercomputer\, and\, most recently Lucata’s Pathfinder Architecture.  He has served as Vice President of Server and Platform Engineering at SGI and as Head of Engineering at DE Shaw Research\, and holds over 20 patents in parallel processing hardware. Together with Lucata’s founders\, Peter Kogge\, Jay Brockman\, and Ed Upchurch\, he has pioneered the application of Migratory Thread and Near-Memory Processing to practical applications. 								\n				\n				\n		\n				\n				\n																														\n				\n				\n					\n				\n		\n				\n				\n					Members: remember to login to see your free ticket option. Note: if you see a message to renew\, we have seen a glitch on some browsers. Click the renew link\, which will take you to your account page\, where you will see if you are current. If you are\, simply navigate again to the event page and you should see your free ticket option.				\n				\n				\n				\n						\n					\n			\n						\n				\n					\n	\n		\n\n				SHPCP October 2023 Lunch & Learn	\n\n\n		\n	\n		SHPCP February 2024 Lunch & Learn
URL:https://hpc-ai-society.org/event/shpcp-january-2024-lunch-learn/
LOCATION:HCC West Loop Campus\, 5601 W Loop S.\, Room C142\, Houston\, 77081\, United States
CATEGORIES:Lunch & Learn,SHPCP
END:VEVENT
END:VCALENDAR